BEGIN:VCALENDAR
VERSION:2.0
PRODID:-//hacksw/handcal//NONSGML v1.0//EN
CALSCALE:GREGORIAN
BEGIN:VTIMEZONE
TZID:America/Los_Angeles
BEGIN:DAYLIGHT
TZOFFSETFROM:-0600
TZNAME:MDT
TZOFFSETTO:-0600
END:DAYLIGHT
END:VTIMEZONE
DTSTAMP:20260419T063809Z
UID:69e4dac1117ce
BEGIN:VEVENT
LOCATION:Pahrump Community Library, 701 East St, Pahrump, NV US 89048
DESCRIPTION:<p>Stay tuned for upcoming dates! AARP offers low-cost safer driving classroom courses @ the Library.</p>

<p><a href="/aarp">Click here&nbsp;for more info and how to register.</a></p>

DTSTART;TZID=America/Los_Angeles:20250724T100000
DTEND;TZID=America/Los_Angeles:20250724T140000
SUMMARY:AARP Smart Driver Classroom Course
URL;VALUE=URI:/aarp-smart-driver-classroom-course-8
END:VEVENT
END:VCALENDAR