BEGIN:VCALENDAR
VERSION:2.0
PRODID:-//hacksw/handcal//NONSGML v1.0//EN
CALSCALE:GREGORIAN
BEGIN:VTIMEZONE
TZID:America/Los_Angeles
BEGIN:DAYLIGHT
TZOFFSETFROM:-0600
TZNAME:MDT
TZOFFSETTO:-0600
END:DAYLIGHT
END:VTIMEZONE
DTSTAMP:20260420T224323Z
UID:69e70e7b21df3
BEGIN:VEVENT
DESCRIPTION:<p><span style="-webkit-text-stroke-width:0px;background-color:rgb(255, 255, 255);color:rgb(8, 8, 9);display:inline !important;float:none;font-family:&quot;Segoe UI Historic&quot;, &quot;Segoe UI&quot;, Helvetica, Arial, sans-serif;font-size:15px;font-style:normal;font-variant-caps:normal;font-variant-ligatures:normal;font-weight:400;letter-spacing:normal;orphans:2;text-align:start;text-decoration-color:initial;text-decoration-style:initial;text-decoration-thickness:initial;text-indent:0px;text-transform:none;white-space:pre-wrap;widows:2;word-spacing:0px;">Held on the 3rd Tuesday of each month, no appointment necessary! Come learn how to use the mouse and keyboard, set up an email, and other basic computer tasks. Feel free to bring your own laptop!</span></p>
DTSTART;TZID=America/Los_Angeles:20251118T110000
DTEND;TZID=America/Los_Angeles:20251118T120000
SUMMARY:Basic Beginner Computer Class
URL;VALUE=URI:/basic-beginner-computer-class-4
END:VEVENT
END:VCALENDAR