BEGIN:VCALENDAR
VERSION:2.0
PRODID:-//hacksw/handcal//NONSGML v1.0//EN
CALSCALE:GREGORIAN
BEGIN:VTIMEZONE
TZID:America/Los_Angeles
BEGIN:DAYLIGHT
TZOFFSETFROM:-0600
TZNAME:MDT
TZOFFSETTO:-0600
END:DAYLIGHT
END:VTIMEZONE
DTSTAMP:20260419T215417Z
UID:69e5b17907569
BEGIN:VEVENT
LOCATION:Pahrump Community Library, 701 East St, Pahrump, NV US 89048
DESCRIPTION:<h2>The Tumbleweed Tales Poetry Group meets the last Friday of the month at 2pm.</h2><p>This is an excellent forum for all who would like to share original poems and short writing, or those of a favorite author, their own artistic voice, song, music, and/or visual art.&nbsp; Ages 18+.</p><p>We also sponsor and help organize Special Events @ the Library, such as Guest Poets, Book Signings, and the Author Extravaganza (held in September 2017).</p>
DTSTART;TZID=America/Los_Angeles:20260529T140000
DTEND;TZID=America/Los_Angeles:20260529T160000
SUMMARY:Tumbleweed Tales Poetry Group
URL;VALUE=URI:/tumbleweed-tales-poetry-group-2
END:VEVENT
END:VCALENDAR